BEGIN:VCALENDAR
VERSION:2.0
PRODID:-//PYVOBJECT//NONSGML Version 0.9.9//EN
X-WR-TIMEZONE:Africa/Johannesburg
BEGIN:VTIMEZONE
TZID:Africa/Johannesburg
BEGIN:STANDARD
DTSTART:20000101T000000
RRULE:FREQ=YEARLY;BYMONTH=1
TZNAME:SAST
TZOFFSETFROM:+0200
TZOFFSETTO:+0200
END:STANDARD
END:VTIMEZONE
BEGIN:VEVENT
UID:20260423T094710Z - 40111@eos-content
DTSTART;TZID=Africa/Johannesburg:20260426T020000
DTEND;TZID=Africa/Johannesburg:20260426T050000
ATTENDEE:MAILTO:mary@onlyrealty.co.za
ATTENDEE:MAILTO:salome@onlyrealty.co.za
DESCRIPTION:https://www.onlyrealty.co.za/results/residential/for-sale/preto
 ria/faerie-glen/townhouse/3024948/\n\nDana's Place\n\nMary Mashao (083 577
  4248)\n\nSalome Dipela (082 383 3167)
DTSTAMP:20260423T094710Z
LOCATION:Faerie Glen\, Pretoria
SUMMARY:Only Realty Show Day - ORL39053
END:VEVENT
END:VCALENDAR
