BEGIN:VCALENDAR
VERSION:2.0
PRODID:-//PYVOBJECT//NONSGML Version 0.9.9//EN
X-WR-TIMEZONE:Africa/Johannesburg
BEGIN:VTIMEZONE
TZID:Africa/Johannesburg
BEGIN:STANDARD
DTSTART:20000101T000000
RRULE:FREQ=YEARLY;BYMONTH=1
TZNAME:SAST
TZOFFSETFROM:+0200
TZOFFSETTO:+0200
END:STANDARD
END:VTIMEZONE
BEGIN:VEVENT
UID:20260421T083527Z - 56759@eos-content
DTSTART;TZID=Africa/Johannesburg:20260503T140000
DTEND;TZID=Africa/Johannesburg:20260503T170000
ATTENDEE:MAILTO:charisse@ordevcomm.co.za
DESCRIPTION:https://www.onlyrealty.co.za/results/residential/for-sale/sandt
 on/bryanston-east/cluster/3122594/3-4-on-baker-4-baker/\n\nBy appointment 
 only - Contact Charisse 065 530 1390\n\n4 Baker St\, Bryanston\, Sandton\,
  2191\n\nhttps://maps.app.goo.gl/Bn7m1Ui5LwLg5sRu9\n\nCharisse Struwig (06
 55301390)
DTSTAMP:20260421T083527Z
LOCATION:3 4 On Baker\, 4 Baker\, Bryanston East\, Sandton
SUMMARY:Only Realty Show Day - ORL40634
END:VEVENT
END:VCALENDAR
