BEGIN:VCALENDAR
VERSION:2.0
PRODID:-//PYVOBJECT//NONSGML Version 0.9.9//EN
X-WR-TIMEZONE:Africa/Johannesburg
BEGIN:VTIMEZONE
TZID:Africa/Johannesburg
BEGIN:STANDARD
DTSTART:20000101T000000
RRULE:FREQ=YEARLY;BYMONTH=1
TZNAME:SAST
TZOFFSETFROM:+0200
TZOFFSETTO:+0200
END:STANDARD
END:VTIMEZONE
BEGIN:VEVENT
UID:20260421T001643Z - 14341@eos-content
DTSTART;TZID=Africa/Johannesburg:20260422T170000
DTEND;TZID=Africa/Johannesburg:20260422T173000
ATTENDEE:MAILTO:carmen@orgroup.co.za
DESCRIPTION:https://www.onlyrealty.co.za/results/residential/for-sale/randb
 urg/jacanlee/house/3144961/\n\nMalibongwe into Judges\, second right into 
 Valley\, 4th right into Jack\n\nCarmen Weiss (0711858783)
DTSTAMP:20260421T001643Z
LOCATION:Jacanlee\, Randburg
SUMMARY:Only Realty Show Day - ORL41040
END:VEVENT
END:VCALENDAR
